BEGIN:VCALENDAR
VERSION:2.0
METHOD:REQUEST
PRODID:Sotheby's Australia
BEGIN:VEVENT
DTSTART:20200224
DTEND:20200307
SUMMARY:Brett Whiteley: The Line of Beauty
UID:1
SEQUENCE:0
DTSTAMP:
LOCATION:30 Queen Street, Woollahra, NSW 2025 Sydney NSW
END:VEVENT
END:VCALENDAR