BEGIN:VCALENDAR
VERSION:2.0
METHOD:REQUEST
PRODID:Sotheby's Australia
BEGIN:VEVENT
DTSTART:20200513
DTEND:20200513
SUMMARY:Important Australian Art - AU0844
UID:1
SEQUENCE:0
DTSTAMP:
LOCATION:The Woollahra Hotel, 116 Queen Street, Woollahra Sydney NSW
END:VEVENT
END:VCALENDAR